BEGIN:VCALENDAR
VERSION:2.0
PRODID:-//National Autism Association - ECPv6.15.20//NONSGML v1.0//EN
CALSCALE:GREGORIAN
METHOD:PUBLISH
X-WR-CALNAME:National Autism Association
X-ORIGINAL-URL:https://nationalautismassociation.org
X-WR-CALDESC:Events for National Autism Association
REFRESH-INTERVAL;VALUE=DURATION:PT1H
X-Robots-Tag:noindex
X-PUBLISHED-TTL:PT1H
BEGIN:VTIMEZONE
TZID:America/New_York
BEGIN:DAYLIGHT
TZOFFSETFROM:-0500
TZOFFSETTO:-0400
TZNAME:EDT
DTSTART:20250309T070000
END:DAYLIGHT
BEGIN:STANDARD
TZOFFSETFROM:-0400
TZOFFSETTO:-0500
TZNAME:EST
DTSTART:20251102T060000
END:STANDARD
BEGIN:DAYLIGHT
TZOFFSETFROM:-0500
TZOFFSETTO:-0400
TZNAME:EDT
DTSTART:20260308T070000
END:DAYLIGHT
BEGIN:STANDARD
TZOFFSETFROM:-0400
TZOFFSETTO:-0500
TZNAME:EST
DTSTART:20261101T060000
END:STANDARD
BEGIN:DAYLIGHT
TZOFFSETFROM:-0500
TZOFFSETTO:-0400
TZNAME:EDT
DTSTART:20270314T070000
END:DAYLIGHT
BEGIN:STANDARD
TZOFFSETFROM:-0400
TZOFFSETTO:-0500
TZNAME:EST
DTSTART:20271107T060000
END:STANDARD
END:VTIMEZONE
BEGIN:VEVENT
DTSTART;TZID=America/New_York:20260507T190000
DTEND;TZID=America/New_York:20260507T200000
DTSTAMP:20260423T134028
CREATED:20260423T160805Z
LAST-MODIFIED:20260423T160805Z
UID:50604-1778180400-1778184000@nationalautismassociation.org
SUMMARY:Powering the Brain: A Parent’s Guide to Mitochondria and ASD with Sundeep Dugar\, PhD
DESCRIPTION:Powering the Brain: A Parent’s Guide to Mitochondria and ASD with Sundeep Dugar\, PhD \nJoin host Wendy Fournier for a conversation with Dr. Sundeep Dugar\, co-founder and Chief Scientific Officer of Blue Oak Nutraceuticals\, on the importance of mitochondrial function in individuals with ASD. Together\, they will examine how focus\, mood\, development\, immune function\, and overall well-being are directly tied to cellular energy.  By attending this session\, attendees will leave with a deeper understanding of mitochondria – the biological engines driving their child’s development.\nWhat you can expect to learn: \n\nImpact of internal cellular energy on external behaviors\nWhy mitochondria are at the center of health\nDefinitions of the Bioenergetic Threshold and Cell Danger Response (CDR)\nShifting from defense mode to growth mode\nHow to proactively build a foundation for health and resilience\n\nRegister for upcoming webinars and watch archived webinars\, all for free.
URL:https://nationalautismassociation.org/events/powering-the-brain-a-parents-guide-to-mitochondria-and-asd-with-sundeep-dugar-phd/
LOCATION:Online
ATTACH;FMTTYPE=image/png:https://nationalautismassociation.org/wp-content/uploads/2026/04/Sundeep-Dugar-PhD-sm.png
ORGANIZER;CN="National Autism Association":MAILTO:naa@nationalautism.org
END:VEVENT
END:VCALENDAR